BEGIN:VCALENDAR
VERSION:2.0
PRODID:-//Elyanthisis - Développement Personnel - ECPv6.15.17//NONSGML v1.0//EN
CALSCALE:GREGORIAN
METHOD:PUBLISH
X-WR-CALNAME:Elyanthisis - Développement Personnel
X-ORIGINAL-URL:https://elyanthisis.com
X-WR-CALDESC:Évènements pour Elyanthisis - Développement Personnel
REFRESH-INTERVAL;VALUE=DURATION:PT1H
X-Robots-Tag:noindex
X-PUBLISHED-TTL:PT1H
BEGIN:VTIMEZONE
TZID:Europe/Paris
BEGIN:DAYLIGHT
TZOFFSETFROM:+0100
TZOFFSETTO:+0200
TZNAME:CEST
DTSTART:20230326T010000
END:DAYLIGHT
BEGIN:STANDARD
TZOFFSETFROM:+0200
TZOFFSETTO:+0100
TZNAME:CET
DTSTART:20231029T010000
END:STANDARD
BEGIN:DAYLIGHT
TZOFFSETFROM:+0100
TZOFFSETTO:+0200
TZNAME:CEST
DTSTART:20240331T010000
END:DAYLIGHT
BEGIN:STANDARD
TZOFFSETFROM:+0200
TZOFFSETTO:+0100
TZNAME:CET
DTSTART:20241027T010000
END:STANDARD
BEGIN:DAYLIGHT
TZOFFSETFROM:+0100
TZOFFSETTO:+0200
TZNAME:CEST
DTSTART:20250330T010000
END:DAYLIGHT
BEGIN:STANDARD
TZOFFSETFROM:+0200
TZOFFSETTO:+0100
TZNAME:CET
DTSTART:20251026T010000
END:STANDARD
END:VTIMEZONE
BEGIN:VEVENT
DTSTART;TZID=Europe/Paris:20240913T094500
DTEND;TZID=Europe/Paris:20240913T173000
DTSTAMP:20260422T104611
CREATED:20240629T152222Z
LAST-MODIFIED:20240630T104403Z
UID:777-1726220700-1726248600@elyanthisis.com
SUMMARY:Corps : processus de constellation
DESCRIPTION:Faites alliance avec votre corps et concrétisez vos rêves ! \nCe processus de constellation met en scène 15 facettes de votre corps ainsi vous : \n\nGuérissez la relation à votre corps\, acceptez le tel qu’il est et faîtes alliance avec lui.\nComprenez les messages de votre corps\, décryptez son langage\, apprenez à mieux le comprendre et le respecter.\nAgissez sur votre corps\, par l’intermédiaire du dialogue qui s’installe entre vous et vos personnages intérieurs. Ré-informez ainsi en toute autonomie votre espace corporel.\nRéalisez vos rêves\, car quels qu’ils soient\, vos rêves\, vos projets ont besoin de se concrétiser dans la matière.\n\n\n\nVous traverserez ces 5 mois de processus au sein d’un petit groupe (6 personnes). Ainsi\, un vrai espace d’intimité et de soutien se développe au fil du temps.\nNous vous proposons avec Johanna de vous accompagner avec une intention que nous vous aiderons à formuler précisément.\nLa première journée de constellation est dédiée aux 4 veilleurs : ce sont vos lanceurs d’alerte. C’est donc à travers eux que vous pouvez ré-ancrer votre sécurité intérieure.\nLors de la deuxième journée permet de réaligner les 4 piliers de votre corps\, qui ont une fonction directement opérationnelle. Réalisez ainsi vos projets\, vos missions\, vos rêves …avec un axe vertical pour foncer et un axe horizontal pour l’équilibre du donner et du recevoir.\nPuis\, la troisième journée vous connectera à la personnalité profonde de votre corps à travers ses 4 Natures : plaisir\, joie\, instinct\, spontanéité\, relation aux autres …\nEnsuite\, la quatrième journée est la phase de réalisation\, de concrétisation de l’intention en activant les moteurs de votre corps\, pour créer l’action et la mettre en œuvre dans la matière.\n\n\nEt pour terminer\, la cinquième et dernière journée est consacrée à l‘intégration du processus de constellation et à un rituel de Célébration.\n\n\nProcessus du Corps – 1 jour/mois sur 5 mois\n450 euros (90 euros/jour) – Règlement au mois possible avec engagement signé pour la durée du processus.\n110€ à la journée\n\n\nDates : Vendredi 13.09.24\, 11.10.24\, mardi 26.11.24\, vendredi 20.12.24 et 17.01.25\nLa journée se déroule de 9h45 à 17h30. Le repas du midi est partagé au bon soin du groupe.
URL:https://elyanthisis.com/event/777/
END:VEVENT
END:VCALENDAR